BEGIN:VCALENDAR
PRODID:-
VERSION:2.0
BEGIN:VEVENT
DTSTART;VALUE=DATE:20220304
DTSTAMP:20260424T095938Z
SEQUENCE:0
SUMMARY:VCE Sports and Rec Excursion: Hazard Identification Management Protocols
UID:13427@alsiraatcollege
END:VEVENT
END:VCALENDAR
