BEGIN:VCALENDAR
PRODID:-
VERSION:2.0
BEGIN:VEVENT
DTSTART;VALUE=DATE:20220308
DTSTAMP:20260424T081716Z
SEQUENCE:0
SUMMARY:Year 8 and 11/12: SG Volleyball Tournament
UID:13428@alsiraatcollege
END:VEVENT
END:VCALENDAR
