BEGIN:VCALENDAR
PRODID:-
VERSION:2.0
BEGIN:VEVENT
DTSTART;VALUE=DATE:20220322
DTSTAMP:20260424T044817Z
SEQUENCE:0
SUMMARY:Year 7 and 9/10G: Volleyball Tournament
UID:13429@alsiraatcollege
END:VEVENT
END:VCALENDAR
