BEGIN:VCALENDAR
PRODID:-
VERSION:2.0
BEGIN:VEVENT
DTSTART;VALUE=DATE:20220308
DTSTAMP:20260424T081723Z
SEQUENCE:0
SUMMARY:Year 11/12 Boys: Volleyball Tournament
UID:13430@alsiraatcollege
END:VEVENT
END:VCALENDAR
