BEGIN:VCALENDAR
PRODID:-
VERSION:2.0
BEGIN:VEVENT
DTSTART;VALUE=DATE:20220322
DTSTAMP:20260424T044758Z
SEQUENCE:0
SUMMARY:Year 9/10 Boys: Volleyball Tournament
UID:13431@alsiraatcollege
END:VEVENT
END:VCALENDAR
