BEGIN:VCALENDAR
PRODID:-
VERSION:2.0
BEGIN:VEVENT
DTSTART;VALUE=DATE:20220221
DTSTAMP:20260424T113515Z
SEQUENCE:0
SUMMARY:Year 9/10: IB Boys Cricket
UID:13432@alsiraatcollege
END:VEVENT
END:VCALENDAR
