BEGIN:VCALENDAR
PRODID:-
VERSION:2.0
BEGIN:VEVENT
DTSTART;VALUE=DATE:20220302
DTSTAMP:20260424T095737Z
SEQUENCE:0
SUMMARY:Year 8 Excursion: Royal Botanical Gardens - Connecting to Country
UID:13433@alsiraatcollege
END:VEVENT
END:VCALENDAR
