BEGIN:VCALENDAR
PRODID:-
VERSION:2.0
BEGIN:VEVENT
DTSTART;VALUE=DATE:20220304
DTSTAMP:20260424T095840Z
SEQUENCE:0
SUMMARY:Year 6 SSV Soccer and European Handball
UID:13434@alsiraatcollege
END:VEVENT
END:VCALENDAR
