BEGIN:VCALENDAR
PRODID:-
VERSION:2.0
BEGIN:VEVENT
DTSTART;VALUE=DATE:20220308
DTSTAMP:20260424T081716Z
SEQUENCE:0
SUMMARY:Senior Student Girls Leaders (Year 10-12): IWD-Walk with the Minister
UID:13435@alsiraatcollege
END:VEVENT
END:VCALENDAR
