BEGIN:VCALENDAR
PRODID:-
VERSION:2.0
BEGIN:VEVENT
DTSTART;VALUE=DATE:20220330
LOCATION:Refer to News article
DTSTAMP:20260424T024714Z
SEQUENCE:0
SUMMARY:Ride2School Day
DESCRIPTION:- 6.30am Ride for Hifz and Ilm students
- 7.25am Rides from two different starting locations
UID:13437@alsiraatcollege
END:VEVENT
END:VCALENDAR
