BEGIN:VCALENDAR
PRODID:-
VERSION:2.0
BEGIN:VEVENT
DTSTART;VALUE=DATE:20220318
LOCATION:Zoom
DTSTAMP:20260424T063345Z
SEQUENCE:0
SUMMARY:Virtual Art & Technology Exhibition
UID:13438@alsiraatcollege
END:VEVENT
END:VCALENDAR
