BEGIN:VCALENDAR
PRODID:-
VERSION:2.0
BEGIN:VEVENT
DTSTART;VALUE=DATE:20220402
DTSTAMP:20260424T025702Z
SEQUENCE:0
SUMMARY:Ramadan starts (tbc)
UID:13439@alsiraatcollege
END:VEVENT
END:VCALENDAR
