BEGIN:VCALENDAR
PRODID:-
VERSION:2.0
BEGIN:VEVENT
DTSTART;VALUE=DATE:20220412
LOCATION:tba
DTSTAMP:20260424T025916Z
SEQUENCE:0
SUMMARY:Year 12 Iftar (offsite)
UID:13441@alsiraatcollege
END:VEVENT
END:VCALENDAR
