BEGIN:VCALENDAR
PRODID:-
VERSION:2.0
BEGIN:VEVENT
DTSTART;VALUE=DATE:20220307
DTSTAMP:20260424T081804Z
SEQUENCE:0
SUMMARY:Year 8 KLIC excursion: Islamic Museum of Australia - Ottoman Empire
UID:13442@alsiraatcollege
END:VEVENT
END:VCALENDAR
