BEGIN:VCALENDAR
PRODID:-
VERSION:2.0
BEGIN:VEVENT
DTSTART;VALUE=DATE:20220328
LOCATION:Sirius College
DTSTAMP:20260424T030550Z
SEQUENCE:0
SUMMARY:Year 10 Environmental Club Excursion: Sustainable Farm
UID:13443@alsiraatcollege
END:VEVENT
END:VCALENDAR
