BEGIN:VCALENDAR
PRODID:-
VERSION:2.0
BEGIN:VEVENT
DTSTART;VALUE=DATE:20220413
DTSTAMP:20260424T030345Z
SEQUENCE:0
SUMMARY:Interfaith Community Iftar
UID:13444@alsiraatcollege
END:VEVENT
END:VCALENDAR
