BEGIN:VCALENDAR
PRODID:-
VERSION:2.0
BEGIN:VEVENT
DTSTART;VALUE=DATE:20220315
DTSTAMP:20260424T062324Z
SEQUENCE:0
SUMMARY:VET Sport and Rec First Aid Training
UID:13455@alsiraatcollege
END:VEVENT
END:VCALENDAR
