BEGIN:VCALENDAR
PRODID:-
VERSION:2.0
BEGIN:VEVENT
DTSTART;VALUE=DATE:20220315
DTSTAMP:20260424T062350Z
SEQUENCE:0
SUMMARY:VCE Information Night Webinar
UID:13456@alsiraatcollege
END:VEVENT
END:VCALENDAR
