BEGIN:VCALENDAR
PRODID:-
VERSION:2.0
BEGIN:VEVENT
DTSTART;VALUE=DATE:20220316
DTSTAMP:20260424T062243Z
SEQUENCE:0
SUMMARY:Year 5/Hifz: Smoothie Incursion
UID:13457@alsiraatcollege
END:VEVENT
END:VCALENDAR
