BEGIN:VCALENDAR
PRODID:-
VERSION:2.0
BEGIN:VEVENT
DTSTART;VALUE=DATE:20220319
LOCATION:Basketball Court
DTSTAMP:20260424T063345Z
SEQUENCE:0
SUMMARY:Path To Hifz (for parents of Foundation to Year 2 students)
UID:13458@alsiraatcollege
END:VEVENT
END:VCALENDAR
