BEGIN:VCALENDAR
PRODID:-
VERSION:2.0
BEGIN:VEVENT
DTSTART;VALUE=DATE:20220318
LOCATION:Zoom
DTSTAMP:20260424T062324Z
SEQUENCE:0
SUMMARY:Bilingual Storytime (English/Arabic): Isra' and Miraj
DESCRIPTION:Zoom link:

https://alsiraat.zoom.us/j/99358333597?pwd=Tnh6SzVpY2dmM2F5NmVPNlBGKzVBQT09
Passcode: 510119
UID:13459@alsiraatcollege
END:VEVENT
END:VCALENDAR
