BEGIN:VCALENDAR
PRODID:-
VERSION:2.0
BEGIN:VEVENT
DTSTART;VALUE=DATE:20220317
LOCATION:M Auditorium
DTSTAMP:20260424T062243Z
SEQUENCE:0
SUMMARY:Years 7 - 10 Girls: IWD Celebration
UID:13460@alsiraatcollege
END:VEVENT
END:VCALENDAR
