BEGIN:VCALENDAR
PRODID:-
VERSION:2.0
BEGIN:VEVENT
DTSTART;VALUE=DATE:20220318
DTSTAMP:20260424T062205Z
SEQUENCE:0
SUMMARY:Years 7-9 LEAP: Mill Park Library
UID:13461@alsiraatcollege
END:VEVENT
END:VCALENDAR
