BEGIN:VCALENDAR
PRODID:-
VERSION:2.0
BEGIN:VEVENT
DTSTART;VALUE=DATE:20220401
DTSTAMP:20260424T025943Z
SEQUENCE:0
SUMMARY:Year 3 and Hifz Excursion: Queen Victoria Market
UID:13462@alsiraatcollege
END:VEVENT
END:VCALENDAR
