BEGIN:VCALENDAR
PRODID:-
VERSION:2.0
BEGIN:VEVENT
DTSTART;VALUE=DATE:20220317
LOCATION:D2
DTSTAMP:20260424T062421Z
SEQUENCE:0
SUMMARY:Year 7 and 10 Vaccinations
UID:13463@alsiraatcollege
END:VEVENT
END:VCALENDAR
