BEGIN:VCALENDAR
PRODID:-
VERSION:2.0
BEGIN:VEVENT
DTSTART;VALUE=DATE:20220319
LOCATION:School grounds
DTSTAMP:20260424T062205Z
SEQUENCE:0
SUMMARY:Qur'an under the Sky
UID:13464@alsiraatcollege
END:VEVENT
END:VCALENDAR
