BEGIN:VCALENDAR
PRODID:-
VERSION:2.0
BEGIN:VEVENT
DTSTART;VALUE=DATE:20220323
DTSTAMP:20260424T043149Z
SEQUENCE:0
SUMMARY:Years 8 - 11 SRCs: Visit to Pakistan Consulate
UID:13465@alsiraatcollege
END:VEVENT
END:VCALENDAR
