BEGIN:VCALENDAR
PRODID:-
VERSION:2.0
BEGIN:VEVENT
DTSTART;VALUE=DATE:20220412
LOCATION:TEAMS building
DTSTAMP:20260424T024714Z
SEQUENCE:0
SUMMARY:Year 6: Father and Son Iftar
UID:13467@alsiraatcollege
END:VEVENT
END:VCALENDAR
