BEGIN:VCALENDAR
PRODID:-
VERSION:2.0
BEGIN:VEVENT
DTSTART;VALUE=DATE:20220331
LOCATION:M building
DTSTAMP:20260424T024715Z
SEQUENCE:0
SUMMARY:Year 3 Sleep over
UID:13468@alsiraatcollege
END:VEVENT
END:VCALENDAR
