BEGIN:VCALENDAR
PRODID:-
VERSION:2.0
BEGIN:VEVENT
DTSTART;VALUE=DATE:20220331
DTSTAMP:20260424T024703Z
SEQUENCE:0
SUMMARY:Year 8B1, Leap and KLIC: Ottoman Empire excursion
UID:13471@alsiraatcollege
END:VEVENT
END:VCALENDAR
