BEGIN:VCALENDAR
PRODID:-
VERSION:2.0
BEGIN:VEVENT
DTSTART;VALUE=DATE:20220413
LOCATION:A0
DTSTAMP:20260424T024850Z
SEQUENCE:0
SUMMARY:F-2 Awards Assembly
UID:13476@alsiraatcollege
END:VEVENT
END:VCALENDAR
