BEGIN:VCALENDAR
PRODID:-
VERSION:2.0
BEGIN:VEVENT
DTSTART;VALUE=DATE:20220413
LOCATION:Basketball arena
DTSTAMP:20260424T030511Z
SEQUENCE:0
SUMMARY:Year 3 - 6 Awards Assembly
UID:13477@alsiraatcollege
END:VEVENT
END:VCALENDAR
