BEGIN:VCALENDAR
PRODID:-
VERSION:2.0
BEGIN:VEVENT
DTSTART;VALUE=DATE:20220408
LOCATION:Galada Community Centre, Epping VIC 3076
DTSTAMP:20260424T025242Z
SEQUENCE:0
SUMMARY:PFC Sisters Iftar
UID:13478@alsiraatcollege
END:VEVENT
END:VCALENDAR
