BEGIN:VCALENDAR
PRODID:-
VERSION:2.0
BEGIN:VEVENT
DTSTART;VALUE=DATE:20220407
DTSTAMP:20260424T044701Z
SEQUENCE:0
SUMMARY:Secondary incursion: Pat Cronin Foundation
UID:13483@alsiraatcollege
END:VEVENT
END:VCALENDAR
