BEGIN:VCALENDAR
PRODID:-
VERSION:2.0
BEGIN:VEVENT
DTSTART;VALUE=DATE:20220405
DTSTAMP:20260424T025242Z
SEQUENCE:0
SUMMARY:Secondary Maths Competition
UID:13525@alsiraatcollege
END:VEVENT
END:VCALENDAR
