BEGIN:VCALENDAR
PRODID:-
VERSION:2.0
BEGIN:VEVENT
DTSTART;VALUE=DATE:20220123
DTSTAMP:20260424T210027Z
SEQUENCE:0
SUMMARY:Staff Training (student free day)
UID:13643@alsiraatcollege
END:VEVENT
END:VCALENDAR
