BEGIN:VCALENDAR
PRODID:-
VERSION:2.0
BEGIN:VEVENT
DTSTART;VALUE=DATE:20220310
DTSTAMP:20260424T081935Z
SEQUENCE:0
SUMMARY:Year 3 Sleep Over and QVM excursion
UID:13884@alsiraatcollege
END:VEVENT
END:VCALENDAR
