BEGIN:VCALENDAR
PRODID:-
VERSION:2.0
BEGIN:VEVENT
DTSTART;VALUE=DATE:20250704
DTSTAMP:20260426T041250Z
SEQUENCE:0
SUMMARY:Student free day
UID:14720@alsiraatcollege
END:VEVENT
END:VCALENDAR
