BEGIN:VCALENDAR
PRODID:-
VERSION:2.0
BEGIN:VEVENT
DTSTART;VALUE=DATE:20250721
DTSTAMP:20260426T041250Z
SEQUENCE:0
SUMMARY:Term 3 commences
UID:14747@alsiraatcollege
END:VEVENT
END:VCALENDAR
