BEGIN:VCALENDAR
PRODID:-
VERSION:2.0
BEGIN:VEVENT
DTSTART;VALUE=DATE:20250409
LOCATION:D4
DTSTAMP:20260426T021412Z
SEQUENCE:0
SUMMARY:Ladies Qur'an Program
UID:15026@alsiraatcollege
END:VEVENT
END:VCALENDAR
