BEGIN:VCALENDAR
PRODID:-
VERSION:2.0
BEGIN:VEVENT
DTSTART;VALUE=DATE:20250702
LOCATION:D4
DTSTAMP:20260426T040118Z
SEQUENCE:0
SUMMARY:Ladies Qur'an Program
UID:15038@alsiraatcollege
END:VEVENT
END:VCALENDAR
