BEGIN:VCALENDAR
PRODID:-
VERSION:2.0
BEGIN:VEVENT
DTSTART;VALUE=DATE:20250728
LOCATION:D4
DTSTAMP:20260426T041247Z
SEQUENCE:0
SUMMARY:URDU Islamic Storytime
UID:15102@alsiraatcollege
END:VEVENT
END:VCALENDAR
