BEGIN:VCALENDAR
PRODID:-
VERSION:2.0
BEGIN:VEVENT
DTSTART;VALUE=DATE:20250729
LOCATION:D4
DTSTAMP:20260426T040846Z
SEQUENCE:0
SUMMARY:ENGLISH Islamic Storytime
UID:15108@alsiraatcollege
END:VEVENT
END:VCALENDAR
