BEGIN:VCALENDAR
PRODID:-
VERSION:2.0
BEGIN:VEVENT
DTSTART;TZID=Australia/Melbourne:20250704T000000Z
DTEND;TZID=Australia/Melbourne:20250705T000000Z
TRANSP:OPAQUE
DTSTAMP:20260426T040926Z
SEQUENCE:0
SUMMARY:Hifz & Ilm Holiday Classes
UID:16130@alsiraatcollege
END:VEVENT
END:VCALENDAR
