BEGIN:VCALENDAR
PRODID:-
VERSION:2.0
BEGIN:VEVENT
DTSTART;VALUE=DATE:20250818
DTSTAMP:20260426T005320Z
SEQUENCE:0
SUMMARY:Year 1 Excursion: Heritage Village
UID:16144@alsiraatcollege
END:VEVENT
END:VCALENDAR
