BEGIN:VCALENDAR
PRODID:-
VERSION:2.0
BEGIN:VEVENT
DTSTART;VALUE=DATE:20250702
DTSTAMP:20260426T035805Z
SEQUENCE:0
SUMMARY:Years 3 – 6 Girls Taekwondo
UID:16146@alsiraatcollege
END:VEVENT
END:VCALENDAR
