BEGIN:VCALENDAR
PRODID:-
VERSION:2.0
BEGIN:VEVENT
DTSTART;VALUE=DATE:20250703
LOCATION:Auditorium
DTSTAMP:20260426T041247Z
SEQUENCE:0
SUMMARY:Term 2 Primary Awards Ceremonies
DESCRIPTION:Celebration of various awards categories for students (award parents invited)
UID:16179@alsiraatcollege
END:VEVENT
END:VCALENDAR
