BEGIN:VCALENDAR
PRODID:-
VERSION:2.0
BEGIN:VEVENT
DTSTART;VALUE=DATE:20250704
LOCATION:Al Siraat College
DTSTAMP:20260426T040440Z
SEQUENCE:0
SUMMARY:LEAP 2026 Year 7 Intake – ACER HAST TEST
DESCRIPTION:Selective test for LEAP 2026 Year 7 Intake.
UID:16189@alsiraatcollege
END:VEVENT
END:VCALENDAR
