BEGIN:VCALENDAR
PRODID:-
VERSION:2.0
BEGIN:VEVENT
DTSTART;VALUE=DATE:20250701
LOCATION:Al Siraat College Auditorium
DTSTAMP:20260426T035624Z
SEQUENCE:0
SUMMARY:Year 7 – 9 SRC Secondary School Assembly
UID:16209@alsiraatcollege
END:VEVENT
END:VCALENDAR
