BEGIN:VCALENDAR
PRODID:-
VERSION:2.0
BEGIN:VEVENT
DTSTART;VALUE=DATE:20250630
LOCATION:Al Siraat College
DTSTAMP:20260426T040541Z
SEQUENCE:0
SUMMARY:SoccaJoeys Grade F-2
UID:16224@alsiraatcollege
END:VEVENT
END:VCALENDAR
